BEGIN:VCALENDAR
VERSION:2.0
PRODID:-//ChamberMaster//Event Calendar 2.0//EN
METHOD:PUBLISH
X-PUBLISHED-TTL:P3D
REFRESH-INTERVAL:P3D
CALSCALE:GREGORIAN
BEGIN:VEVENT
DTSTART:20140406T010000Z
DTEND:20140406T060000Z
X-MICROSOFT-CDO-ALLDAYEVENT:FALSE
SUMMARY:19th Annual Catalina Island Conservancy Ball
DESCRIPTION:
X-ALT-DESC;FMTTYPE=text/html:
LOCATION:
UID:e.1956.1206
SEQUENCE:3
DTSTAMP:20260424T205643Z
URL:https://business.lbchamber.com/events/details/19th-annual-catalina-island-conservancy-ball-04-05-2014-1206
END:VEVENT

END:VCALENDAR
