BEGIN:VCALENDAR
VERSION:2.0
PRODID:-//ChamberMaster//Event Calendar 2.0//EN
METHOD:PUBLISH
X-PUBLISHED-TTL:P3D
REFRESH-INTERVAL:P3D
CALSCALE:GREGORIAN
BEGIN:VEVENT
DTSTART:20151207T163000Z
DTEND:20151208T020000Z
X-MICROSOFT-CDO-ALLDAYEVENT:FALSE
SUMMARY:18th Annual Long Beach Symphony Golf Classic
DESCRIPTION:All proceeds from the 18th Annual Long Beach Symphony Golf Classic support the artistic\, educational and community engagement programs of the Long Beach Symphony. Long Beach Symphony is a 501(c)(3) nonprofit organization. Non-profit tax ID#: 95-6004958.
X-ALT-DESC;FMTTYPE=text/html:All proceeds from the 18th Annual Long Beach Symphony Golf Classic support the artistic\, educational and community engagement programs of the Long Beach Symphony. Long Beach Symphony is a 501(c)(3) nonprofit organization. Non-profit tax ID#: 95-6004958.
LOCATION:Virginia Country Club
UID:e.1956.2529
SEQUENCE:3
DTSTAMP:20260423T203449Z
URL:https://business.lbchamber.com/events/details/18th-annual-long-beach-symphony-golf-classic-12-07-2015-2529
END:VEVENT

END:VCALENDAR
