BEGIN:VCALENDAR
VERSION:2.0
PRODID:-//ChamberMaster//Event Calendar 2.0//EN
METHOD:PUBLISH
X-PUBLISHED-TTL:P3D
REFRESH-INTERVAL:P3D
CALSCALE:GREGORIAN
BEGIN:VEVENT
DTSTART:20190410T143000Z
DTEND:20190410T153000Z
X-MICROSOFT-CDO-ALLDAYEVENT:FALSE
SUMMARY:12th Annual Breakfast BLAST
DESCRIPTION:Long Beach BLAST cordially invites you to start your day with an inspiring morning featuring the power that a community has to change the lives of our youth for the better.
X-ALT-DESC;FMTTYPE=text/html:Long Beach BLAST cordially invites you to start your day with an inspiring morning featuring the power that a community has to change the lives of our youth for the better.
LOCATION:Long Beach Yacht Club
UID:e.1956.4426
SEQUENCE:3
DTSTAMP:20260419T223847Z
URL:https://business.lbchamber.com/events/details/12th-annual-breakfast-blast-4426
END:VEVENT

END:VCALENDAR
