BEGIN:VCALENDAR
VERSION:2.0
PRODID:-//ChamberMaster//Event Calendar 2.0//EN
METHOD:PUBLISH
X-PUBLISHED-TTL:P3D
REFRESH-INTERVAL:P3D
CALSCALE:GREGORIAN
BEGIN:VEVENT
DTSTART:20160617T003000Z
DTEND:20160617T040000Z
X-MICROSOFT-CDO-ALLDAYEVENT:FALSE
SUMMARY:125th Gala Celebration
DESCRIPTION:125th Gala Honoring Long Beach Commercial Real Estate Development & Celebrating the 20th Anniversary of the Long Beach Commercial Real Estate Council.        \n\n\n\nWe will be honoring Outgoing Chair\, Kristi Allen\, and welcoming our Incoming Chair\, Jon Deusenberry of UPS.
X-ALT-DESC;FMTTYPE=text/html:125th Gala Honoring Long Beach Commercial Real Estate Development &amp\; Celebrating the 20th Anniversary of the Long Beach Commercial Real Estate Council.&nbsp\;&nbsp\;&nbsp\;&nbsp\;&nbsp\;&nbsp\;&nbsp\;&nbsp\;<br />\n<br />\nWe will be honoring Outgoing Chair\, Kristi Allen\, and welcoming our Incoming Chair\, Jon Deusenberry of UPS. &nbsp\;
LOCATION:Long Beach Convention Center Grand Ballroom 300 E Ocean Blvd Long Beach CA
UID:e.1956.2779
SEQUENCE:3
DTSTAMP:20260420T100825Z
URL:https://business.lbchamber.com/events/details/125th-gala-celebration-06-16-2016-2779
END:VEVENT

END:VCALENDAR
